BEGIN:VCALENDAR
VERSION:2.0
PRODID:-//https://cienciamx.com///NONSGML kigkonsult.se iCalcreator 2.10.15//
METHOD:PUBLISH
BEGIN:VEVENT
UID:20260422T104420UTC-9579LkDJof@https://cienciamx.com/
DTSTAMP:20260422T104420Z
DESCRIPTION:\n&nbsp\;\nMuseo Memoria y ToleranciaAv. Juárez 8\, Colonia Cen
 tro\, Centro\, Cuauhtémoc\, 06010 Cuauhtémoc\, CDMX\n\n&nbsp\;\n\n\n&nbsp\
 ; https://cienciamx.com/index.php/sociedad/eventos/evento/229-trastornos-d
 el-desarrollo-infantil-curso-4-dias
DTSTART:20200201T123000Z
DTEND:20200222T143000Z
LOCATION:Museo Memoria y Tolerancia (Museo Memoria y Tolerancia\, Centro\, 
 Centro\, 06010 Ciudad de México\, D.F.\, México)
SUMMARY:Trastornos del Desarrollo Infantil - Curso 4 días
URL:https://cienciamx.com/index.php/sociedad/eventos/evento/229-trastornos-
 del-desarrollo-infantil-curso-4-dias
END:VEVENT
END:VCALENDAR
